BEGIN:VCALENDAR
VERSION:2.0
PRODID:-//CIVSA - ECPv5.1.5//NONSGML v1.0//EN
CALSCALE:GREGORIAN
METHOD:PUBLISH
X-WR-CALNAME:CIVSA
X-ORIGINAL-URL:https://civsa.org
X-WR-CALDESC:Events for CIVSA
BEGIN:VTIMEZONE
TZID:America/New_York
BEGIN:DAYLIGHT
TZOFFSETFROM:-0500
TZOFFSETTO:-0400
TZNAME:EDT
DTSTART:20260308T070000
END:DAYLIGHT
BEGIN:STANDARD
TZOFFSETFROM:-0400
TZOFFSETTO:-0500
TZNAME:EST
DTSTART:20261101T060000
END:STANDARD
END:VTIMEZONE
BEGIN:VEVENT
DTSTART;TZID=America/New_York:20260407T160000
DTEND;TZID=America/New_York:20260407T170000
DTSTAMP:20260423T170203
CREATED:20260325T180541Z
LAST-MODIFIED:20260325T180541Z
UID:7058-1775577600-1775581200@civsa.org
SUMMARY:CIVSA Advanced Degrees Webinar
DESCRIPTION:Hosted by the Educational Resources Committee\, this webinar is geared towards seasoned CIVSA members or those interested seeking an advanced degree. Hear from CIVSA members who have sought a Masters Degree or PhD\, their motivation behind doing so\, and how it has helped them in the industry. \nIf you are on the fence about going back to school or want to discover what opportunities exists for an advanced degree\, please consider joining us! \nRegister using the link below; the zoom link will be emailed to you. \n
URL:https://civsa.org/event/civsa-advanced-degrees-webinar/
END:VEVENT
END:VCALENDAR